BEGIN:VCALENDAR
VERSION:2.0
PRODID:-//Insiders Outsiders Festival - ECPv6.15.20//NONSGML v1.0//EN
CALSCALE:GREGORIAN
METHOD:PUBLISH
X-WR-CALNAME:Insiders Outsiders Festival
X-ORIGINAL-URL:https://insidersoutsidersfestival.org
X-WR-CALDESC:Events for Insiders Outsiders Festival
REFRESH-INTERVAL;VALUE=DURATION:PT1H
X-Robots-Tag:noindex
X-PUBLISHED-TTL:PT1H
BEGIN:VTIMEZONE
TZID:Europe/London
BEGIN:DAYLIGHT
TZOFFSETFROM:+0000
TZOFFSETTO:+0100
TZNAME:BST
DTSTART:20180325T010000
END:DAYLIGHT
BEGIN:STANDARD
TZOFFSETFROM:+0100
TZOFFSETTO:+0000
TZNAME:GMT
DTSTART:20181028T010000
END:STANDARD
BEGIN:DAYLIGHT
TZOFFSETFROM:+0000
TZOFFSETTO:+0100
TZNAME:BST
DTSTART:20190331T010000
END:DAYLIGHT
BEGIN:STANDARD
TZOFFSETFROM:+0100
TZOFFSETTO:+0000
TZNAME:GMT
DTSTART:20191027T010000
END:STANDARD
BEGIN:DAYLIGHT
TZOFFSETFROM:+0000
TZOFFSETTO:+0100
TZNAME:BST
DTSTART:20200329T010000
END:DAYLIGHT
BEGIN:STANDARD
TZOFFSETFROM:+0100
TZOFFSETTO:+0000
TZNAME:GMT
DTSTART:20201025T010000
END:STANDARD
END:VTIMEZONE
BEGIN:VEVENT
DTSTART;VALUE=DATE:20190816
DTEND;VALUE=DATE:20190819
DTSTAMP:20260421T144736
CREATED:20190214T094538Z
LAST-MODIFIED:20190302T103903Z
UID:10000619-1565913600-1566172799@insidersoutsidersfestival.org
SUMMARY:The Laban Summer School
DESCRIPTION:Rudolf Laban in his workshop at Darlington Hall in 1938. Photo: Reproduced from The Laban Art of Movement Guild Magazine\, December 1954\nUniversity of Bedfordshire\, Bedford Campus\nEvery year The Laban Guild holds a Summer School which explores the work of modern dance pioneer Rudolf Laban in a contemporary context. \nThe work of Laban\, who took refuge in the UK from Germany in 1938\, gained great popularity in dance and physical education and still plays a key role in actor training. This year lead tutor Anna Carlisle offers a day based on Further Laban Studies for more experienced practitioners\, followed by site specific choreography\, while Cathy Washbrooke will offer a variety of sessions for those newer to Laban’s work. Other experienced Laban-based practitioners contributing to the course include Darren Royston\, Rhyan Parry and Uma O’Neill.
URL:https://insidersoutsidersfestival.org/event/the-laban-summer-school/
LOCATION:The University of Bedfordshire\, Bedford\, University of Bedfordshire Pollhill Avenue\, Bedford\, MK41 9EA\, United Kingdom
CATEGORIES:Dance,Dance events,What's On
ATTACH;FMTTYPE=image/png:https://insidersoutsidersfestival.org/wp-content/uploads/2019/02/Feature_Laban.png
END:VEVENT
BEGIN:VEVENT
DTSTART;VALUE=DATE:20190428
DTEND;VALUE=DATE:20190429
DTSTAMP:20260421T144736
CREATED:20190213T213435Z
LAST-MODIFIED:20190410T181530Z
UID:10000616-1556409600-1556495999@insidersoutsidersfestival.org
SUMMARY:The Laban Lecture
DESCRIPTION:Ann Hutchinson Guest rehearsing L’Apres-Midi d’un Faune for the Royal Ballet with dancers Zenaida Yanovsky and Carlos Acosta\nThe Place\, Euston\, London\nEvery year The Laban Guild celebrates the legacy of Rudolf Laban through a lecture from a leading academic or practitioner who actively promotes the work and heritage of this modern dance pioneer\, who took refuge in the UK from Germany in 1938. This year the lecture will be a conversation with Ann Hutchinson Guest in which\, in her 100th year\, she will reflect on the impact of Laban in her life and work. \nAs a leading practitioner\, developer\, and innovator of Labanotation she has danced on Broadway\, notated the work of some of the world’s leading choreographers\, and led the world in utilizing this movement notation system to preserve dance for future generations. \n2.15pm The talk is part of the Laban Guild for Movement and Dance Annual Conference /AGM which is a whole day event. \nEarly booking reduced fee: the deadline is Friday 12th April 2019; after this date the normal fee will be payable. \nDownload the conference PDF \n  \n\nLaban Guild for Movement and Dance Annual Conference timetable: \n10:00 – 10:20 Arrival\n10:20 – 10:50 Dancing Together\n10.50 – 12:00: Workshop 1 with Adrian Look – Artistic Director and Choreographer of Tanztheater Adrian Look.\n12:00 – 1:10: Workshop 2 with Melanie Clarke – Programme Leader Graduate Diploma in Dance Studies and Independent Study Programme at Trinity Laban\n1:10 – 2:10: Lunch\n2:15 -3:45: Laban Lecture by Ann Hutchinson Guest\, eminent movement and dance researcher and worldwide expert on Labanotation. She will speak of her life-long experience of the Laban heritage.\n4:00: AGM followed by\n4:45: Drinks/Nibbles\n5:00: Performance by Adrian Look’s company – a short piece based on their The Art of Failure production
URL:https://insidersoutsidersfestival.org/event/the-laban-lecture/
LOCATION:The Place\, 17 Duke's Road\, London\, WC1H 9PY\, United Kingdom
CATEGORIES:Dance,Dance events,Lectures,What's On
ATTACH;FMTTYPE=image/png:https://insidersoutsidersfestival.org/wp-content/uploads/2019/02/Feature_Ann.png
END:VEVENT
END:VCALENDAR