BEGIN:VCALENDAR
VERSION:2.0
PRODID:-//Insiders Outsiders Festival - ECPv6.15.20//NONSGML v1.0//EN
CALSCALE:GREGORIAN
METHOD:PUBLISH
X-WR-CALNAME:Insiders Outsiders Festival
X-ORIGINAL-URL:https://insidersoutsidersfestival.org
X-WR-CALDESC:Events for Insiders Outsiders Festival
REFRESH-INTERVAL;VALUE=DURATION:PT1H
X-Robots-Tag:noindex
X-PUBLISHED-TTL:PT1H
BEGIN:VTIMEZONE
TZID:Europe/London
BEGIN:DAYLIGHT
TZOFFSETFROM:+0000
TZOFFSETTO:+0100
TZNAME:BST
DTSTART:20180325T010000
END:DAYLIGHT
BEGIN:STANDARD
TZOFFSETFROM:+0100
TZOFFSETTO:+0000
TZNAME:GMT
DTSTART:20181028T010000
END:STANDARD
BEGIN:DAYLIGHT
TZOFFSETFROM:+0000
TZOFFSETTO:+0100
TZNAME:BST
DTSTART:20190331T010000
END:DAYLIGHT
BEGIN:STANDARD
TZOFFSETFROM:+0100
TZOFFSETTO:+0000
TZNAME:GMT
DTSTART:20191027T010000
END:STANDARD
BEGIN:DAYLIGHT
TZOFFSETFROM:+0000
TZOFFSETTO:+0100
TZNAME:BST
DTSTART:20200329T010000
END:DAYLIGHT
BEGIN:STANDARD
TZOFFSETFROM:+0100
TZOFFSETTO:+0000
TZNAME:GMT
DTSTART:20201025T010000
END:STANDARD
END:VTIMEZONE
BEGIN:VEVENT
DTSTART;VALUE=DATE:20190518
DTEND;VALUE=DATE:20190826
DTSTAMP:20260423T140032
CREATED:20181108T225653Z
LAST-MODIFIED:20190528T153715Z
UID:10000569-1558137600-1566777599@insidersoutsidersfestival.org
SUMMARY:Between Worlds
DESCRIPTION:1930s Glyndebourne performance. © Glyndebourne Archive\nGlyndebourne\, East Sussex\nAn exhibition exploring the founding and early years of the Glyndebourne Festival\, which opened its doors 85 years ago. John and Audrey Christie’s success\, and their legacy\, is legendary\, but they could never have done it alone. For their fledgling opera festival\, John found the winning team of conductor Fritz Busch and producer Carl Ebert\, the Festival’s first artistic directors. Both refugees from Hitler’s Germany\, they brought with them the high European standards of performance which set Glyndebourne apart\, and which\, over the years\, drew on the talents of a wide circle of émigré artists and musicians. \nThe exhibition is open to ticket holders for the 2019 Glyndebourne Festival.
URL:https://insidersoutsidersfestival.org/event/between-worlds-glyndebourne/
LOCATION:Glyndebourne\, Archive Gallery\, Lewes\, East Sussex\, BN8 5UU\, United Kingdom
CATEGORIES:Exhibitions,Music
ATTACH;FMTTYPE=image/png:https://insidersoutsidersfestival.org/wp-content/uploads/2019/01/Feature_Glyndebourne.png
END:VEVENT
END:VCALENDAR