BEGIN:VCALENDAR
VERSION:2.0
PRODID:-//Insiders Outsiders Festival - ECPv6.15.20//NONSGML v1.0//EN
CALSCALE:GREGORIAN
METHOD:PUBLISH
X-ORIGINAL-URL:https://insidersoutsidersfestival.org
X-WR-CALDESC:Events for Insiders Outsiders Festival
REFRESH-INTERVAL;VALUE=DURATION:PT1H
X-Robots-Tag:noindex
X-PUBLISHED-TTL:PT1H
BEGIN:VTIMEZONE
TZID:Europe/London
BEGIN:DAYLIGHT
TZOFFSETFROM:+0000
TZOFFSETTO:+0100
TZNAME:BST
DTSTART:20180325T010000
END:DAYLIGHT
BEGIN:STANDARD
TZOFFSETFROM:+0100
TZOFFSETTO:+0000
TZNAME:GMT
DTSTART:20181028T010000
END:STANDARD
BEGIN:DAYLIGHT
TZOFFSETFROM:+0000
TZOFFSETTO:+0100
TZNAME:BST
DTSTART:20190331T010000
END:DAYLIGHT
BEGIN:STANDARD
TZOFFSETFROM:+0100
TZOFFSETTO:+0000
TZNAME:GMT
DTSTART:20191027T010000
END:STANDARD
BEGIN:DAYLIGHT
TZOFFSETFROM:+0000
TZOFFSETTO:+0100
TZNAME:BST
DTSTART:20200329T010000
END:DAYLIGHT
BEGIN:STANDARD
TZOFFSETFROM:+0100
TZOFFSETTO:+0000
TZNAME:GMT
DTSTART:20201025T010000
END:STANDARD
END:VTIMEZONE
BEGIN:VEVENT
DTSTART;VALUE=DATE:20190307
DTEND;VALUE=DATE:20190308
DTSTAMP:20260423T143511
CREATED:20190117T132815Z
LAST-MODIFIED:20190215T073533Z
UID:10000594-1551916800-1552003199@insidersoutsidersfestival.org
SUMMARY:Looking beyond the Bauhaus: Optimism and aging
DESCRIPTION:Donnersberger Strasse in the Niederrad Siedlung\nThe Gallery\, 70 Cowcross St\, London\nConstructive art and thought in London and St Ives 1935–45 \nSpeaker: Rachel Rose Smith \nRachel has curated a special display at Tate Britain to mark the Bauhaus centenary. She will discuss the meaning of term ‘Constructive’ in London during the mid-1930s and its adaptation by Naum Gabo and Barbara Hepworth to express their long-term vision for art and life in the years that followed. \nTalk starts at 6.30pm \n  \n\nLooking beyond the Bauhaus: Modernism sans frontières \nIn 2019\, the centenary of the Bauhaus is a major event with many exhibitions and publications. Yet this seems likely to add to the large existing pile of information based on only a small part of the actual achievements and aspirations of Modernism during the period of its existence. In Looking beyond the Bauhaus\, the Twentieth Century Society looks more widely with the help of experts in a number of fields\, to offer an exciting but more broadly-based account in which the Bauhaus can be seen in its contemporary context. \nThe series is led by Alan Powers and Elain Harwood \n  \n7 February: Wolfgang Voigt\, former Deputy Director of the German Architecture Museum (DAM)\, Frankfurt The New Frankfurt \n14 February: Speaker: Ita Heinze-Greenburg\, Professor at ETH\, Zurich The European Academy of the Mediterranean \n21 February: Kathleen James-Chakraborty\, Professor at University College\, Dublin Reform not Revolution: German Church Architecture 1919-1968 \n28 February: Alan Powers\, London School of Architecture Bauhaus Goes West \n7 March: Rachel Rose Smith\,Tate Britain Optimism and aging: Constructive art and thought in London and St Ives 1935–45 \n14 March: Monica Bohm-Duchen Accents in Art: Émigré Artists in Britain after 1933 \n  \n\nTalks are at 6.30pm every Tuesday from 7 February – 14 March and can be booked individually or as a season ticket. \nSeason ticket: £40 members/£60 non members/£25 students
URL:https://insidersoutsidersfestival.org/event/optimism-and-aging-constructive-art-and-thought-in-london-and-st-ives-1935-45/
LOCATION:The Gallery\, 70 Cowcross Street\, London\, London\, EC1M 6EJ\, United Kingdom
CATEGORIES:Lectures
ATTACH;FMTTYPE=image/png:https://insidersoutsidersfestival.org/wp-content/uploads/2019/01/Feature_bauhaus.png
END:VEVENT
END:VCALENDAR