BEGIN:VCALENDAR
VERSION:2.0
PRODID:-//Insiders Outsiders Festival - ECPv6.15.20//NONSGML v1.0//EN
CALSCALE:GREGORIAN
METHOD:PUBLISH
X-ORIGINAL-URL:https://insidersoutsidersfestival.org
X-WR-CALDESC:Events for Insiders Outsiders Festival
REFRESH-INTERVAL;VALUE=DURATION:PT1H
X-Robots-Tag:noindex
X-PUBLISHED-TTL:PT1H
BEGIN:VTIMEZONE
TZID:Europe/London
BEGIN:DAYLIGHT
TZOFFSETFROM:+0000
TZOFFSETTO:+0100
TZNAME:BST
DTSTART:20180325T010000
END:DAYLIGHT
BEGIN:STANDARD
TZOFFSETFROM:+0100
TZOFFSETTO:+0000
TZNAME:GMT
DTSTART:20181028T010000
END:STANDARD
BEGIN:DAYLIGHT
TZOFFSETFROM:+0000
TZOFFSETTO:+0100
TZNAME:BST
DTSTART:20190331T010000
END:DAYLIGHT
BEGIN:STANDARD
TZOFFSETFROM:+0100
TZOFFSETTO:+0000
TZNAME:GMT
DTSTART:20191027T010000
END:STANDARD
BEGIN:DAYLIGHT
TZOFFSETFROM:+0000
TZOFFSETTO:+0100
TZNAME:BST
DTSTART:20200329T010000
END:DAYLIGHT
BEGIN:STANDARD
TZOFFSETFROM:+0100
TZOFFSETTO:+0000
TZNAME:GMT
DTSTART:20201025T010000
END:STANDARD
END:VTIMEZONE
BEGIN:VEVENT
DTSTART;VALUE=DATE:20190719
DTEND;VALUE=DATE:20191104
DTSTAMP:20260423T142236
CREATED:20190208T161642Z
LAST-MODIFIED:20190212T213041Z
UID:10000601-1563494400-1572825599@insidersoutsidersfestival.org
SUMMARY:Marie Neurath: Picturing Science
DESCRIPTION:Cover for The Wonder World of the Seashore\, 1955\, with permission of Otto and Marie Neurath\, Isotype Collection at University of Reading\nThe House of Illustration\, King’s Cross\nHouse of Illustration celebrates Marie Neurath with an exhibition of ground-breaking graphic design that transformed children’s learning from the 1940s to today. \nMarie Neurath – an émigré graphic designer and author\, led a team at the Isotype Institute that produced over 80 illustrated children’s books from 1944-1971. The pioneering collaboration between researchers\, artists and writers produced infographics and illustrated diagrams to explain scientific concepts. \nThe exhibition will include spreads and working materials from book series that Marie Neurath produced\, including Wonder World of Nature and Wonders of the Modern World. \n  \n\nIn partnership with the University of Reading and Design Science\, supported by the Arts & Humanities Research Council. The exhibition is part of Transforming science for young people: Marie Neurath and Isotype books for children\, a project aiming to find new audiences for the approach to science communication taken by Marie Neurath. \n 
URL:https://insidersoutsidersfestival.org/event/marie-neurath-picturing-science/
LOCATION:The House of Illustration\, 2 Granary Square\, Kings Cross\, London\, London\, N1C 4BH\, United Kingdom
CATEGORIES:Design,Exhibitions
ATTACH;FMTTYPE=image/png:https://insidersoutsidersfestival.org/wp-content/uploads/2019/02/Feature_Neurath.png
END:VEVENT
END:VCALENDAR