BEGIN:VCALENDAR
VERSION:2.0
PRODID:-//Insiders Outsiders Festival - ECPv6.15.20//NONSGML v1.0//EN
CALSCALE:GREGORIAN
METHOD:PUBLISH
X-WR-CALNAME:Insiders Outsiders Festival
X-ORIGINAL-URL:https://insidersoutsidersfestival.org
X-WR-CALDESC:Events for Insiders Outsiders Festival
REFRESH-INTERVAL;VALUE=DURATION:PT1H
X-Robots-Tag:noindex
X-PUBLISHED-TTL:PT1H
BEGIN:VTIMEZONE
TZID:Europe/London
BEGIN:DAYLIGHT
TZOFFSETFROM:+0000
TZOFFSETTO:+0100
TZNAME:BST
DTSTART:20180325T010000
END:DAYLIGHT
BEGIN:STANDARD
TZOFFSETFROM:+0100
TZOFFSETTO:+0000
TZNAME:GMT
DTSTART:20181028T010000
END:STANDARD
BEGIN:DAYLIGHT
TZOFFSETFROM:+0000
TZOFFSETTO:+0100
TZNAME:BST
DTSTART:20190331T010000
END:DAYLIGHT
BEGIN:STANDARD
TZOFFSETFROM:+0100
TZOFFSETTO:+0000
TZNAME:GMT
DTSTART:20191027T010000
END:STANDARD
BEGIN:DAYLIGHT
TZOFFSETFROM:+0000
TZOFFSETTO:+0100
TZNAME:BST
DTSTART:20200329T010000
END:DAYLIGHT
BEGIN:STANDARD
TZOFFSETFROM:+0100
TZOFFSETTO:+0000
TZNAME:GMT
DTSTART:20201025T010000
END:STANDARD
END:VTIMEZONE
BEGIN:VEVENT
DTSTART;VALUE=DATE:20190220
DTEND;VALUE=DATE:20190221
DTSTAMP:20260421T120334
CREATED:20190211T121436Z
LAST-MODIFIED:20190213T211335Z
UID:10000607-1550620800-1550707199@insidersoutsidersfestival.org
SUMMARY:The Gift of Music: Cosman Collection
DESCRIPTION:Milein Cosman drawing Peter Ustinov at the Edinburgh Festival in 1949. By kind permission of the estate of Milein Cosman\nRoyal College of Music\, London\nJoin us for an evening of art\, music and history as we celebrate the eminent German artist Milein Cosman. \nThe specially curated programme includes works by some of the renowned musicians Milein sketched\, alongside a fascinating recording talking about her life and creative process. On display will be a selection of the intimate portraits\, recently donated to the Royal College of Music Museum\, which offer an unparalleled glimpse into the rich musical culture of 20th-century Britain. \nThis evening of art\, music and history celebrates the donation to the Royal College of Music of Milein Cosman’s collection of drawings of musicians. The Milein Cosman collection has been generously donated to the RCM by the artist. Digitisation of the collection has been supported by The Pilgrim Trust. \nThere will also be a free pre-concert talk before this event \n  \nThis event is part of a series celebrating Hans Keller’s centenary: see Hans Keller 100 \n  \n\n  \n6.15 pm Pre-Concert Talk\n7.30 pm Concert \nProgramme to include: \nCassado Suite for solo cello\nBritten Nocturnal after John Dowland op 70\nRankl Op 5 Nr. 12\, The Travelling Players\, text by Ruth Tenney\nOp 5 Nr. 4\, Camel Bells\, text by Ruth Tenney\nOp 7 Nr. 2 Night Song at Amalfi\, text by Sarah Teasdale\nOp 7 Nr. 8 Little Fruit Tree in November\, text by Anne Runcie\nOp 7 Nr. 6 On Orpheus going to Hell for a Wife\, text by Thomas Lyle\nHindemith Kleine Kammermusik op 24 no 2 \n 
URL:https://insidersoutsidersfestival.org/event/the-gift-of-music-cosman-collection/
LOCATION:Royal College of Music\, Amaryllis Fleming Concert Hall\, Prince Consort Road\, London\, South Kensigton\, SW7 2BS\, United Kingdom
CATEGORIES:Concerts,Music
ATTACH;FMTTYPE=image/png:https://insidersoutsidersfestival.org/wp-content/uploads/2019/02/Feature_MileinCosman.png
END:VEVENT
END:VCALENDAR