BEGIN:VCALENDAR
VERSION:2.0
PRODID:-//Insiders Outsiders Festival - ECPv6.15.20//NONSGML v1.0//EN
CALSCALE:GREGORIAN
METHOD:PUBLISH
X-WR-CALNAME:Insiders Outsiders Festival
X-ORIGINAL-URL:https://insidersoutsidersfestival.org
X-WR-CALDESC:Events for Insiders Outsiders Festival
REFRESH-INTERVAL;VALUE=DURATION:PT1H
X-Robots-Tag:noindex
X-PUBLISHED-TTL:PT1H
BEGIN:VTIMEZONE
TZID:Europe/London
BEGIN:DAYLIGHT
TZOFFSETFROM:+0000
TZOFFSETTO:+0100
TZNAME:BST
DTSTART:20180325T010000
END:DAYLIGHT
BEGIN:STANDARD
TZOFFSETFROM:+0100
TZOFFSETTO:+0000
TZNAME:GMT
DTSTART:20181028T010000
END:STANDARD
BEGIN:DAYLIGHT
TZOFFSETFROM:+0000
TZOFFSETTO:+0100
TZNAME:BST
DTSTART:20190331T010000
END:DAYLIGHT
BEGIN:STANDARD
TZOFFSETFROM:+0100
TZOFFSETTO:+0000
TZNAME:GMT
DTSTART:20191027T010000
END:STANDARD
BEGIN:DAYLIGHT
TZOFFSETFROM:+0000
TZOFFSETTO:+0100
TZNAME:BST
DTSTART:20200329T010000
END:DAYLIGHT
BEGIN:STANDARD
TZOFFSETFROM:+0100
TZOFFSETTO:+0000
TZNAME:GMT
DTSTART:20201025T010000
END:STANDARD
END:VTIMEZONE
BEGIN:VEVENT
DTSTART;TZID=Europe/London:20190321T183000
DTEND;TZID=Europe/London:20190321T183000
DTSTAMP:20260421T223741
CREATED:20190213T101940Z
LAST-MODIFIED:20190224T103822Z
UID:10000610-1553193000-1553193000@insidersoutsidersfestival.org
SUMMARY:“Child Migrants Welcome?”
DESCRIPTION:Born in Prague in what was then Czechoslovakia\, Lord Dubs was one of 669 children saved from the Nazis on the Kindertransport\nMigration Museum at The Workshop\, London\nCome to the screening of a series of short films about the welcome and non-welcome experienced by young people who have migrated to the UK – from Syrian children on the Isle of Bute in Scotland\, to Iraqi Kurdish youth in Norwich\, to Eritreans in Harrow and Polish children in Sidmouth (“I really don’t understand scones!”). Hear from friends\, teachers\, lawyers\, religious leaders\, activists and therapists – as well as from the young people themselves – about the challenges faced\, and often overcome. Learn about those who are campaigning for legal and safe routes to the UK of unaccompanied children in Europe as well as the implications of Brexit. \nThe films will be followed by a discussion led by a panel of speakers featured in the films. Speakers include: Lord Dubs\, who came over on the Kinderstransport 80 years ago and who is leading a campaign for the UK to accept 10\,000 unaccompanied child migrants over the next 10 years; Gulwali Passarlay\, author of The Lightless Sky about his journey as an unaccompanied minor from Afghanistan; and Pat Till\, a teacher of Syrian children on the Isle of Bute. \nThe films have been produced by Eithne Nightingale and Mitchell Harris from the award-winning Child Migrant Stories. \n  \n\n18:30 – 21:00 \nTickets cost £8 (to which Eventbrite will add £0.97 commission). For £5 concessionary tickets (for students\, over-65s\, disabled adults\, adults on benefits\, and refugees and asylum seekers)\, please contact Andrew Steeds
URL:https://insidersoutsidersfestival.org/event/child-migrants-welcome-and-lord-dubs-on-panel-discussion/
LOCATION:Migration Museum at The Workshop\, 26 Lambeth High Street\, London\, SE1 7AG\, United Kingdom
CATEGORIES:Educational events,Film,Film screenings,Lectures
ATTACH;FMTTYPE=image/png:https://insidersoutsidersfestival.org/wp-content/uploads/2019/02/Feature_ChildMigrant.png
END:VEVENT
END:VCALENDAR