BEGIN:VCALENDAR
VERSION:2.0
PRODID:-//Insiders Outsiders Festival - ECPv6.15.20//NONSGML v1.0//EN
CALSCALE:GREGORIAN
METHOD:PUBLISH
X-ORIGINAL-URL:https://insidersoutsidersfestival.org
X-WR-CALDESC:Events for Insiders Outsiders Festival
REFRESH-INTERVAL;VALUE=DURATION:PT1H
X-Robots-Tag:noindex
X-PUBLISHED-TTL:PT1H
BEGIN:VTIMEZONE
TZID:Europe/London
BEGIN:DAYLIGHT
TZOFFSETFROM:+0000
TZOFFSETTO:+0100
TZNAME:BST
DTSTART:20180325T010000
END:DAYLIGHT
BEGIN:STANDARD
TZOFFSETFROM:+0100
TZOFFSETTO:+0000
TZNAME:GMT
DTSTART:20181028T010000
END:STANDARD
BEGIN:DAYLIGHT
TZOFFSETFROM:+0000
TZOFFSETTO:+0100
TZNAME:BST
DTSTART:20190331T010000
END:DAYLIGHT
BEGIN:STANDARD
TZOFFSETFROM:+0100
TZOFFSETTO:+0000
TZNAME:GMT
DTSTART:20191027T010000
END:STANDARD
BEGIN:DAYLIGHT
TZOFFSETFROM:+0000
TZOFFSETTO:+0100
TZNAME:BST
DTSTART:20200329T010000
END:DAYLIGHT
BEGIN:STANDARD
TZOFFSETFROM:+0100
TZOFFSETTO:+0000
TZNAME:GMT
DTSTART:20201025T010000
END:STANDARD
BEGIN:DAYLIGHT
TZOFFSETFROM:+0000
TZOFFSETTO:+0100
TZNAME:BST
DTSTART:20210328T010000
END:DAYLIGHT
BEGIN:STANDARD
TZOFFSETFROM:+0100
TZOFFSETTO:+0000
TZNAME:GMT
DTSTART:20211031T010000
END:STANDARD
END:VTIMEZONE
BEGIN:VEVENT
DTSTART;VALUE=DATE:20191001
DTEND;VALUE=DATE:20200202
DTSTAMP:20260422T164122
CREATED:20190213T213535Z
LAST-MODIFIED:20190807T101249Z
UID:10000617-1569888000-1580601599@insidersoutsidersfestival.org
SUMMARY:Beyond Bauhaus - Modernism in Britain 1933–66
DESCRIPTION:High Cross House\, Dartington Hall School\, Devon\, 1932 by architect William Lescaze RIBA Collections\nRoyal Institute of British Architects\, London\nThis exhibition takes a fresh look at the development of British modernist architecture through the reciprocal influence of the Bauhaus movement. \nCoinciding with the centenary of the Bauhaus school\, the Royal Institute of British Architects (RIBA) presents an ambitious exhibition that revisits the impact of three notable Bauhaus émigrés: Walter Gropius\, Marcel Breuer and László Moholy-Nagy. \nCentred on the brief period of 1934-37\, when they came to live and work in Britain\, the RIBA exhibition traces this fertile moment in British architectural history through the buildings completed during the decade. \n\nMonday to Saturday: 10am to 5pm\nTuesday: 10am to 8pm\nSunday: Closed
URL:https://insidersoutsidersfestival.org/event/bauhaus-uk/
LOCATION:Architecture Gallery\, RIBA\, 66 Portland Place\, London\, London\, W1B 1AD\, United Kingdom
CATEGORIES:Architecture,Exhibitions
ATTACH;FMTTYPE=image/png:https://insidersoutsidersfestival.org/wp-content/uploads/2019/02/Feature_highcross.png
END:VEVENT
BEGIN:VEVENT
DTSTART;TZID=Europe/London:20190313T183000
DTEND;TZID=Europe/London:20190313T183000
DTSTAMP:20260422T164122
CREATED:20190227T114550Z
LAST-MODIFIED:20190227T192236Z
UID:10000632-1552501800-1552501800@insidersoutsidersfestival.org
SUMMARY:Isokon and the Bauhaus in Britain: Talk with authors Leyla Daybelge and Magnus Englund
DESCRIPTION:Daunt Books\, Hampstead\nIn the mid-1930s\, three giants of the international Modern movement\, Bauhaus professors Walter Gropius\, Marcel Breuer and László Moholy-Nagy\, fled Nazi Germany and sought refuge in Hampstead in Britain’s most exciting new apartment block. \nThe hugely influential Lawn Road Flats\, or Isokon building\, was commissioned by visionary couple Jack and Molly Pritchard and designed by architect Wells Coates. Isokon and the Bauhaus in Britain (Batsford) by Leyla Daybelge and Magnus Englund tells the extraordinary story of Isokon\, and how its network of residents helped shape modern Britain. Multiple events will take place during Spring 2019 to mark the book’s release. \n  \nSee also: Edith Tudor-Hart\, the Bauhaus and Isokon and our Modernist and Hampstead Walks \n  \n\n18.30\, £5\, includes a glass of wine
URL:https://insidersoutsidersfestival.org/event/isokon-and-the-bauhaus-in-britain-talk-with-authors-leyla-daybelge-and-magnus-englund/
LOCATION:Daunt Books\, 51 South End Road\, London\, NW3 2QB\, United Kingdom
CATEGORIES:Architecture,Design,Lectures,Literary events,What's On
ATTACH;FMTTYPE=image/png:https://insidersoutsidersfestival.org/wp-content/uploads/2019/02/Feature_Isokon.png
END:VEVENT
BEGIN:VEVENT
DTSTART;VALUE=DATE:20190307
DTEND;VALUE=DATE:20190331
DTSTAMP:20260422T164122
CREATED:20190227T191654Z
LAST-MODIFIED:20190227T191733Z
UID:10000635-1551916800-1553990399@insidersoutsidersfestival.org
SUMMARY:Isokon and the Bauhaus in Britain: Exhibition
DESCRIPTION:Isokon and the Bauhaus in Britiain\nThe Aram Gallery\, London\nBuilt in 1934\, the Isokon building in Hampstead\, London was England’s first modernist apartment building. Clients Jack and Molly Pritchard commissioned architect Wells Coates to design the building and explore the concept of minimal living. During the mid-1930s and 1940s the flats and bar became a hub for creatives\, including Bauhaus professors Walter Gropius\, Marcel Breuer and László Moholy-Nagy. The three produced furniture\, architecture and graphic art for Jack Pritchard’s Isokon design company. \nThe exhibition accompanies the launch of the book\, Isokon and the Bauhaus in Britain (Batsford) by Leyla Daybelge and Magnus Englund. It tells the extraordinary story of Isokon\, and how its network of residents helped shape modern Britain. \nMultiple events will take place during Spring 2019 to mark the book’s release. \n  \nSee also: Edith Tudor-Hart\, the Bauhaus and Isokon and our Modernist and Hampstead Walks \n  \n\n  \nGallery opening times: Mon–Sat 10.00–18.00\, Thurs 10.00–19.00
URL:https://insidersoutsidersfestival.org/event/isokon-and-the-bauhaus-in-britain-exhibition/
LOCATION:The Aram Gallery\, 110 Drury Lane\, Covent Garden\, London\, WC2B 5SG\, United Kingdom
CATEGORIES:Architecture,Design,Exhibitions,What's On
ATTACH;FMTTYPE=image/png:https://insidersoutsidersfestival.org/wp-content/uploads/2019/02/Feature_Isokon.png
END:VEVENT
END:VCALENDAR