BEGIN:VCALENDAR
VERSION:2.0
PRODID:-//Insiders Outsiders Festival - ECPv6.15.20//NONSGML v1.0//EN
CALSCALE:GREGORIAN
METHOD:PUBLISH
X-ORIGINAL-URL:https://insidersoutsidersfestival.org
X-WR-CALDESC:Events for Insiders Outsiders Festival
REFRESH-INTERVAL;VALUE=DURATION:PT1H
X-Robots-Tag:noindex
X-PUBLISHED-TTL:PT1H
BEGIN:VTIMEZONE
TZID:Europe/London
BEGIN:DAYLIGHT
TZOFFSETFROM:+0000
TZOFFSETTO:+0100
TZNAME:BST
DTSTART:20180325T010000
END:DAYLIGHT
BEGIN:STANDARD
TZOFFSETFROM:+0100
TZOFFSETTO:+0000
TZNAME:GMT
DTSTART:20181028T010000
END:STANDARD
BEGIN:DAYLIGHT
TZOFFSETFROM:+0000
TZOFFSETTO:+0100
TZNAME:BST
DTSTART:20190331T010000
END:DAYLIGHT
BEGIN:STANDARD
TZOFFSETFROM:+0100
TZOFFSETTO:+0000
TZNAME:GMT
DTSTART:20191027T010000
END:STANDARD
BEGIN:DAYLIGHT
TZOFFSETFROM:+0000
TZOFFSETTO:+0100
TZNAME:BST
DTSTART:20200329T010000
END:DAYLIGHT
BEGIN:STANDARD
TZOFFSETFROM:+0100
TZOFFSETTO:+0000
TZNAME:GMT
DTSTART:20201025T010000
END:STANDARD
BEGIN:DAYLIGHT
TZOFFSETFROM:+0000
TZOFFSETTO:+0100
TZNAME:BST
DTSTART:20210328T010000
END:DAYLIGHT
BEGIN:STANDARD
TZOFFSETFROM:+0100
TZOFFSETTO:+0000
TZNAME:GMT
DTSTART:20211031T010000
END:STANDARD
END:VTIMEZONE
BEGIN:VEVENT
DTSTART;TZID=Europe/London:20200216T120000
DTEND;TZID=Europe/London:20200216T133000
DTSTAMP:20260424T094624
CREATED:20180328T083135Z
LAST-MODIFIED:20200210T082931Z
UID:10000526-1581854400-1581859800@insidersoutsidersfestival.org
SUMMARY:Dissent and Displacement Public Seminar Series
DESCRIPTION:Monica Petzal: Book burning in Dresden May 1933\nNew Walk Museum and Gallery\, Leicester\nLived and Imagined Histories : Some Thoughts on the Work of First and Second Generation (Jewish) Visual Artists \nMonica Bohm-Duchen\, initiator and Creative Director of the very successful Insiders/Outsiders Festival\, presents the series’ opening seminar\, in honour of the new exhibition at New Walk Museum & Art Gallery (Leicester): \nThe ‘Dissent and Displacement’ Public Seminar Series is presented by the University of Leicester’s School of Arts and Stanley Burton Centre for Holocaust and Genocide Studies\, in collaboration with Leicester Museums and Galleries. \n  \n8 February – 19 April 2020: Dissent and Displacement Exhibition
URL:https://insidersoutsidersfestival.org/event/dissent-and-displacement/
LOCATION:New Walk Museum and Art Gallery\, 53 New Walk\, Leicester\, Leicester\, LE1 7EA\, United Kingdom
CATEGORIES:Educational events,Exhibitions,Lectures,What's On
ATTACH;FMTTYPE=image/png:https://insidersoutsidersfestival.org/wp-content/uploads/2018/03/Feature_MonicaPetzel.png
END:VEVENT
BEGIN:VEVENT
DTSTART;VALUE=DATE:20200208
DTEND;VALUE=DATE:20200420
DTSTAMP:20260424T094624
CREATED:20180328T083135Z
LAST-MODIFIED:20200203T121210Z
UID:10000524-1581120000-1587340799@insidersoutsidersfestival.org
SUMMARY:Dissent and Displacement: A Modern Story - Monica Petzal and Margarete Klopfleisch
DESCRIPTION:Monica Petzal: Book burning in Dresden May 1933\nNew Walk Museum and Gallery\, Leicester\nThe exhibition is in two parts: wall-mounted prints by contemporary artist Monica Petzal; and sculptures and works on paper by Margarete Klopfleisch (1911-82). \nMonica Petzal is a painter\, printmaker and art historian who trained at Sussex University\, the Royal College of Art and Camberwell College of Art. She has had a diverse career as a curator\, critic and practicing artist. Her work can be found in public collections including the V&A Museum\, London and New Hall College Art Collection\, University of Cambridge. Full details can be found here. \nMonica has created a body of prints\, which explore not only her family history (her parents’ lived in Dresden during the 1930s) but also the forces of conflict and change which have shaped the cities of Coventry and Dresden\, both of which were heavily bombed in WW2. New works for Leicester will incorporate the story of Leicester’s wartime museum director Trevor Thomas\, as well as ideas around contemporary LGBT identities and modern dissidence. \nMargarete Klopfleisch\, née Grossner\, was a Dresden-born sculptor\, draughtswoman and printmaker. Ill health and the fervent left-wing views which she acquired as a young woman dominated her life. Having joined the German Communist Party in 1931\, she was forced to flee to Prague two years later when the Nazis came to power and joined the Oskar Kokoschka League of Anti-Fascist Artists in 1937. When Hitler’s troops marched into Czechoslovakia\, she fled again. On the 9th March 1939 with the threat of war looming\, she emigrated to England on the last transport to leave the Czech Republic. \nIn England she was employed as a housekeeper by Roland Penrose who in turn helped her with further studies. Here she worked and exhibited with societies such as the Free German League of Culture and the Artists International Association. In 1940\, like many German-Jewish refugees\, she was interned on the Isle of Man. After her release she exhibited in London\, Maidenhead\, Cookham\, Glasgow and Reading. Her sculptures\, many of them carved in wood\, link directly to an expressionist tradition seen in the work of Ernst Barlach\, also represented in the Leicester collections. \nMargarete Klopfleisch\, Despair\, 1941. On loan to New Walk Museum and Art Gallery\, Leicester\nApproximately 35-40 works by Klopfleisch will comprise the second part of the exhibition\, including wood sculptures\, paintings\, drawings and family documents. \n  \nSunday 16 February 2020: Dissent and Displacement Public Seminar Series
URL:https://insidersoutsidersfestival.org/event/dissent-and-displacement-margarete-klopfleisch-monica-petzal/
LOCATION:New Walk Museum and Art Gallery\, 53 New Walk\, Leicester\, Leicester\, LE1 7EA\, United Kingdom
CATEGORIES:Exhibitions,Fine Art
ATTACH;FMTTYPE=image/png:https://insidersoutsidersfestival.org/wp-content/uploads/2018/03/Feature_MonicaPetzel.png
END:VEVENT
BEGIN:VEVENT
DTSTART;VALUE=DATE:20191031
DTEND;VALUE=DATE:20200215
DTSTAMP:20260424T094624
CREATED:20190224T220539Z
LAST-MODIFIED:20191101T153853Z
UID:10000625-1572480000-1581724799@insidersoutsidersfestival.org
SUMMARY:20:20  Stories of Moving Lineage
DESCRIPTION:Refugee from Ivory Coast © Nina Emet\nBrent Civic Centre\, London\n  \n \n20:20 is a multimedia\, touring arts and heritage project that casts a long lens over the personal memories of refugee families who arrived in the UK from 1999 onwards from Kosovo and other major global conflicts. \nSupported by The National Lottery Heritage Fund\, 20:20 is led by Salusbury World Refugee Centre and co-curated by FotoDocument and London College of Communication. The project collects and explores the oral histories of 20 refugees over 20 years\, creating artistic responses in the form of multimedia exhibitions and performance. \nThe stories focus on memories of homeland and agile adaptations to exile\, exploring resilience\, polyglotism and celebrating transnational culture in the UK. The artwork interprets the narratives through objects\, film\, illustration\, typography\, digital art\, animation\, motion design and graphic design – demanding a visceral audience response. \nSalusbury World is a visionary London refugee charity\, which has supported refugee children and their families for the past 20 years and 20:20 celebrates its 20th birthday. \nThe exhibition prototyped at the Victoria & Albert Museum in June 2019 and went on to be exhibited at London College of Communication in October as part of London Design Festival 2019. \n  \n\nSee also: \n31 October – 31 December 2019: Willesden Library \n 
URL:https://insidersoutsidersfestival.org/event/2020-stories/
LOCATION:Brent Civic Centre\, Engineers Way\, London\, Wembley\, HA9 0FJ\, United Kingdom
CATEGORIES:Archival displays,Educational events,Events for children and young people,Exhibitions,Film,Fine Art,Photography,Theatre,What's On
ATTACH;FMTTYPE=image/png:https://insidersoutsidersfestival.org/wp-content/uploads/2019/02/Feature_2020-1.png
END:VEVENT
BEGIN:VEVENT
DTSTART;VALUE=DATE:20191031
DTEND;VALUE=DATE:20200215
DTSTAMP:20260424T094624
CREATED:20190224T220539Z
LAST-MODIFIED:20191121T111453Z
UID:10000626-1572480000-1581724799@insidersoutsidersfestival.org
SUMMARY:20:20  Stories of Moving Lineage
DESCRIPTION:Refugee from Ivory Coast © Nina Emet\nWillesden Library\, London\n  \n \n20:20 is a multimedia\, touring arts and heritage project that casts a long lens over the personal memories of refugee families who arrived in the UK from 1999 onwards from Kosovo and other major global conflicts. \nSupported by The National Lottery Heritage Fund\, 20:20 is led by Salusbury World Refugee Centre and co-curated by FotoDocument and London College of Communication. The project collects and explores the oral histories of 20 refugees over 20 years\, creating artistic responses in the form of multimedia exhibitions and performance. \nThe stories focus on memories of homeland and agile adaptations to exile\, exploring resilience\, polyglotism and celebrating transnational culture in the UK. The artwork interprets the narratives through objects\, film\, illustration\, typography\, digital art\, animation\, motion design and graphic design – demanding a visceral audience response. \nSalusbury World is a visionary London refugee charity\, which has supported refugee children and their families for the past 20 years and 20:20 celebrates its 20th birthday. \nThe exhibition prototyped at the Victoria & Albert Museum in June 2019 and went on to be exhibited at London College of Communication in October as part of London Design Festival 2019. \n  \n\nIt is currently being exhibited at the following two venues until 14th February 2019: \n31 October 2019 – 14 February 2020: Brent Civic Centre\n31 October – 31 December 2019: Willesden Library \n  \n 
URL:https://insidersoutsidersfestival.org/event/2020-stories-of-moving-lineage/
LOCATION:Willesden Library\, 95 High Road\, London\, Willesden\, NW10 2SF\, United Kingdom
CATEGORIES:Archival displays,Educational events,Events for children and young people,Exhibitions,Film,Fine Art,Photography,Theatre,What's On
ATTACH;FMTTYPE=image/png:https://insidersoutsidersfestival.org/wp-content/uploads/2019/02/Feature_2020-1.png
END:VEVENT
BEGIN:VEVENT
DTSTART;VALUE=DATE:20190916
DTEND;VALUE=DATE:20190921
DTSTAMP:20260424T094624
CREATED:20190312T134023Z
LAST-MODIFIED:20190320T184256Z
UID:10000645-1568592000-1569023999@insidersoutsidersfestival.org
SUMMARY:Maurice Blik: Exhibition & Artist's Talk
DESCRIPTION:Maurice Blik\nBowman Sculpture\, London\nAfter decades of making sculpture\, in the last two years\, Maurice Blik has identified a unique and personal way of working to externalise his thoughts and feelings.  Now his sculptures leap\, dance\, stride\, walk\, hurry\, peer\, to express what it feels like to be alive. \nBorn in Amsterdam in 1939 and having survived Bergen-Belsen\, Maurice arrived in the UK aged six. The ability to come to terms with those experiences\, to confront the face of humanity that he had witnessed\, stayed silent in him for some 40 years until it found a voice in the passionate and exquisite sculpture that he began to produce in the 1980s. \n  \nMaurice Blik talk  6.30pm\, Thursday 19 September\, Bowman Sculpture Gallery
URL:https://insidersoutsidersfestival.org/event/maurice-blik-exhibition-artists-talk/
LOCATION:Bowman Sculpture\, \, 6 Duke Street\, St James’s SW1Y 6BN\, London\, SW1Y 6BN\, United Kingdom
CATEGORIES:Artforms,Exhibitions,Fine Art,Lectures,What's On
ATTACH;FMTTYPE=image/png:https://insidersoutsidersfestival.org/wp-content/uploads/2019/03/Feature_MauriceBlik.png
END:VEVENT
BEGIN:VEVENT
DTSTART;VALUE=DATE:20190914
DTEND;VALUE=DATE:20191031
DTSTAMP:20260424T094624
CREATED:20190224T220539Z
LAST-MODIFIED:20191101T154003Z
UID:10000624-1568419200-1572479999@insidersoutsidersfestival.org
SUMMARY:20:20  Stories of Moving Lineage
DESCRIPTION:Refugee from Ivory Coast © Nina Emet\nLondon College of Communication\, London\n  \n \n20:20 is a multimedia\, touring arts and heritage project that casts a long lens over the personal memories of refugee families who arrived in the UK from 1999 onwards from Kosovo and other major global conflicts. \nSupported by The National Lottery Heritage Fund\, 20:20 is led by Salusbury World Refugee Centre and co-curated by FotoDocument and London College of Communication. The project collects and explores the oral histories of 20 refugees over 20 years\, creating artistic responses in the form of multimedia exhibitions and performance. \nThe stories focus on memories of homeland and agile adaptations to exile\, exploring resilience\, polyglotism and celebrating transnational culture in the UK. The artwork interprets the narratives through objects\, film\, illustration\, typography\, digital art\, animation\, motion design and graphic design – demanding a visceral audience response. \nSalusbury World is a visionary London refugee charity\, which has supported refugee children and their families for the past 20 years and 20:20 celebrates its 20th birthday. \nThe exhibition prototyped at the Victoria & Albert Museum in June 2019 and went on to be exhibited at London College of Communication in October as part of London Design Festival 2019. \n  \n\nIt is currently being exhibited at the following two venues until 14th February 2019:\n31 October 2019 – 14 February 2020: Brent Civic Centre\n31 October – 31 December 2019: Willesden Library \n 
URL:https://insidersoutsidersfestival.org/event/2020-moving-lineage/
LOCATION:London College of Communication\, Elephant and Castle\, SE1 6SB\, United Kingdom
CATEGORIES:Archival displays,Educational events,Events for children and young people,Exhibitions,Film,Fine Art,Photography,Theatre,What's On
ATTACH;FMTTYPE=image/png:https://insidersoutsidersfestival.org/wp-content/uploads/2019/02/Feature_2020-1.png
END:VEVENT
BEGIN:VEVENT
DTSTART;VALUE=DATE:20190622
DTEND;VALUE=DATE:20190623
DTSTAMP:20260424T094624
CREATED:20180328T095751Z
LAST-MODIFIED:20190410T173452Z
UID:10000531-1561161600-1561247999@insidersoutsidersfestival.org
SUMMARY:The Life and Work of Friedrich Nagler: A Conversation
DESCRIPTION:Friedrich Nagler Wunderkammer at Pallant House Gallery. Photo credit Martin Nagler\nHove Museum & Art Gallery\, East Sussex\nJoin Friedrich Nagler’s sons\, Mervyn and Martin\, in a conversation about this extraordinary artist to discuss their father’s life\, experience and work. \n\nSaturday 22 June 3.00 – 4.00pm\nFree\, no booking necessary \n  \nSee also: Friedrich Nagler: A Personal Mythology
URL:https://insidersoutsidersfestival.org/event/the-life-and-work-of-friedrich-nagler-a-conversation/
LOCATION:Hove Museum and Art Gallery\, 19 New Church Road\, Hove\, East Sussex\, BN3 4AB\, United Kingdom
CATEGORIES:Educational events,Exhibitions,Fine Art,Lectures,What's On
ATTACH;FMTTYPE=image/png:https://insidersoutsidersfestival.org/wp-content/uploads/2019/03/Feature_Nagler.png
END:VEVENT
BEGIN:VEVENT
DTSTART;VALUE=DATE:20190616
DTEND;VALUE=DATE:20190617
DTSTAMP:20260424T094624
CREATED:20190226T113140Z
LAST-MODIFIED:20190813T201254Z
UID:10000628-1560643200-1560729599@insidersoutsidersfestival.org
SUMMARY:20:20 vision
DESCRIPTION:Refugee from Ivory Coast © Nina Emet\nThe Globe\, Europe Galleries\, Victoria & Albert Museum\, London\n  \n \n20:20 vision is a dynamic arts and community legacy project from not-for-profits Salusbury WORLD Refugee Centre and FotoDocument\, which celebrates the contribution of refugees to the UK. The project focuses on 20 children from diverse backgrounds who arrived in the UK circa 1999 and casts a long lens over their lives and achievements fast forwarding 20 years later to 2019. 20:20 vision uses photography\, film\, written & spoken word and visual theatre to capture the stories which are being showcased in a touring exhibition alongside archival photographs\, significant objects\, children’s drawings\, letters\, diaries and other relevant ephemera. \n  \n\nSee also:\n14 September – 30 October 2019: London College of Communication\n31 October 2019 – 14 February 2020: Brent Civic Centre\n31 October – 31 December 2019: Willesden Library \n 
URL:https://insidersoutsidersfestival.org/event/2020-vision/
LOCATION:Victoria and Albert Museum\, Cromwell Road\, London\, South Kensigton\, SW7 2RL\, United Kingdom
CATEGORIES:Archival displays,Educational events,Events for children and young people,Exhibitions,Film,Fine Art,Photography,Theatre,What's On
ATTACH;FMTTYPE=image/png:https://insidersoutsidersfestival.org/wp-content/uploads/2019/02/Feature_2020-1.png
END:VEVENT
BEGIN:VEVENT
DTSTART;VALUE=DATE:20190613
DTEND;VALUE=DATE:20191106
DTSTAMP:20260424T094624
CREATED:20180328T095751Z
LAST-MODIFIED:20190924T104751Z
UID:10000530-1560384000-1572998399@insidersoutsidersfestival.org
SUMMARY:Friedrich Nagler: A Personal Mythology
DESCRIPTION:Friedrich Nagler Wunderkammer at Pallant House Gallery. Photo credit Martin Nagler\nHove Museum & Art Gallery\, East Sussex\nFriedrich Nagler (1920 – 2009) was a Jewish émigré and self-taught artist born in Vienna\, Austria. He escaped Nazi occupation in 1938 and after being interned in England was deported to Canada as an ‘enemy alien’ by the British government. He returned after the war and settled in Petersfield\, Hampshire. Consumed by a passion for making\, Nagler created thousands of works of art\, some of which are inspired by his flight from Nazi-occupied Austria to England. \nThis project\, produced in partnership with award-winning arts charity Outside In\, will see never before seen works on display at Hove Museum and Art Gallery.
URL:https://insidersoutsidersfestival.org/event/friedrich-nagler-exhibition-hove/
LOCATION:Hove Museum and Art Gallery\, 19 New Church Road\, Hove\, East Sussex\, BN3 4AB\, United Kingdom
CATEGORIES:Exhibitions,Fine Art,What's On
ATTACH;FMTTYPE=image/png:https://insidersoutsidersfestival.org/wp-content/uploads/2019/03/Feature_Nagler.png
END:VEVENT
BEGIN:VEVENT
DTSTART;VALUE=DATE:20190603
DTEND;VALUE=DATE:20190723
DTSTAMP:20260424T094624
CREATED:20190126T180500Z
LAST-MODIFIED:20190729T075129Z
UID:10000600-1559520000-1563839999@insidersoutsidersfestival.org
SUMMARY:'Jankel Adler: A "Degenerate" Artist in Britain\, 1940-49'
DESCRIPTION:Jankel Adler\, Mother and Child. Private Collection © DACS 2019\nBen Uri Gallery\, London\nMarking the 70th anniversary of the death of Polish-Jewish émigré Jankel Adler (1895-1949) BURU’s exhibition explores his nine-year British exile. Adler fled Nazi Germany in 1933\, was declared ‘degenerate’ in his absence\, and arrived in Scotland (via Paris) in 1940. Influenced by Picasso and Klee\, in both Glasgow\, and later London\, he introduced remarkable stylistic and technical innovations\, particularly in printmaking\, to the next generation of British artists. Drawn primarily from private collections\, this exhibition provides a much-needed opportunity to re-assess a still neglected artist\, now considered one of the most important European modernists working in mid-century Britain. \nAlthough under-appreciated in Britain both during his lifetime and in the years immediately following his death\, the major 2018 retrospective\, Jankel Adler und die Avantgarde: Chagall\, Dix\, Klee\, Picasso\, at the Von der Heydt Museum\, Wuppertal\, Germany\, has consolidated Adler’s reputation across Europe. Ben Uri’s exhibition provides an opportunity to re-assess an artist now considered to be one of the most important European modernists working in mid-century Britain. \n  \n\nThe exhibition will be open 11-5 pm Monday to Sunday from 3 June – 16 June\nIt will then be open for the next four Mondays 11-5 pm on 17\, 24 June\, 1 and 8 July \n 
URL:https://insidersoutsidersfestival.org/event/driftwood-cast-upon-a-foreign-shore/
LOCATION:Ben Uri Gallery & Museum\, 108a Boundary Road\, off Abbey Road\, London\, NW8 0RH\, United Kingdom
CATEGORIES:Exhibitions,Fine Art
ATTACH;FMTTYPE=image/png:https://insidersoutsidersfestival.org/wp-content/uploads/2019/03/Feature_Adler.png
END:VEVENT
BEGIN:VEVENT
DTSTART;VALUE=DATE:20190526
DTEND;VALUE=DATE:20191001
DTSTAMP:20260424T094624
CREATED:20181108T205127Z
LAST-MODIFIED:20190429T161025Z
UID:10000567-1558828800-1569887999@insidersoutsidersfestival.org
SUMMARY:Fifth Biennial Ruth Borchard Self-Portrait Prize Exhibition
DESCRIPTION:Piano Nobile Kings Place\, London\nExhibition of 120 selected submissions from a long-list of works for the Fifth Biennial Ruth Borchard Self-Portrait Prize at Piano Nobile Kings Place. At the opening a panel of prestigious judges will select a winner. \nCelebrating contemporary British and Irish self-portraiture\, the Ruth Borchard Prize offers a unique opportunity for new and established artists to compete for £10\,000 and an opportunity for their work to be purchased for the Ruth Borchard Next Generation Collection. \nAll artists working\, living or studying in the UK and Ireland are eligible to enter. Works must be a self-portrait of the artist. There are no restrictions on size of work and a wide variety of mediums are welcomed. \n  \n  \n  \nThe Ruth Borchard Self-Portrait Collection was the life-long project of German-born Ruth Borchard (1910-2000)\, who came to England in 1938. A prolific author\, Borchard wrote a biography of John Stuart Mill (1957)\, a study of Jewish mysticism (1989)\, murder mystery novels\, children’s books and a semi-autobiographical account of her time interned on the Isle of Man during the Second World War\, entitled We Are Strangers Here: An ‘Enemy Alien’ in Prison in 1940.
URL:https://insidersoutsidersfestival.org/event/fifth-biennial-ruth-borchard-self-portrait-prize-exhibition/
LOCATION:Piano Nobile Kings Place\, 90 York Way\, London\, Kings Cross\, N1 9AG\, United Kingdom
CATEGORIES:Exhibitions,Fine Art
ATTACH;FMTTYPE=image/png:https://insidersoutsidersfestival.org/wp-content/uploads/2019/01/Feature_Prize.png
ORGANIZER;CN="Piano Nobile":MAILTO:www.ruthborchard.org.uk
END:VEVENT
BEGIN:VEVENT
DTSTART;TZID=Europe/London:20190521T150000
DTEND;TZID=Europe/London:20190521T160000
DTSTAMP:20260424T094624
CREATED:20190402T121233Z
LAST-MODIFIED:20190405T161012Z
UID:10000656-1558450800-1558454400@insidersoutsidersfestival.org
SUMMARY:Belonging and Not Belonging: Émigré Artists in Britain after 1933: Lecture by Monica Bohm-Duchen
DESCRIPTION:Josef Herman\, Refugees\, c.1941\, Ben Uri Gallery & Museum\, London © Josef Herman Estate\nJewish Museum\, London\nThis illustrated talk by Monica Bohm-Duchen\, initiator and Creative Director of the Insiders/Outsiders Festival\, will focus on the experiences of the artists who found refuge in this country in the wake of Hitler’s accession to power in 1933\, examining not only their achievements and legacy\, but also the challenges – not to say obstacles – they faced on their arrival. \n  \n\nFree
URL:https://insidersoutsidersfestival.org/event/belonging-and-not-belonging-emigre-artists-in-britain-after-1933/
LOCATION:Jewish Museum London\, Raymond Burton House 129-131 Albert Street\, London\, NW1 7NB\, United Kingdom
CATEGORIES:Educational events,Fine Art,Lectures,What's On
ATTACH;FMTTYPE=image/png:https://insidersoutsidersfestival.org/wp-content/uploads/2019/04/Feature_Herman.png
END:VEVENT
BEGIN:VEVENT
DTSTART;VALUE=DATE:20190427
DTEND;VALUE=DATE:20190512
DTSTAMP:20260424T094624
CREATED:20190306T203430Z
LAST-MODIFIED:20190317T194143Z
UID:10000643-1556323200-1557619199@insidersoutsidersfestival.org
SUMMARY:Maurice Blik Plasters: The Artist at Eighty
DESCRIPTION:Maurice Blik Plasters\nSculpt Gallery\, Gt. Braxted\, Essex\nAn exhibition of artist’s plasters of recent sculptures to celebrate the artist’s Eightieth Birthday. The exhibition will also include original sketches and limited edition etchings. Born in Amsterdam\, Holland in 1939 and having survived Bergen-Belsen concentration camp as a child\, Maurice Blik arrived in the UK aged seven with two surviving female members of his family. The ability to come to terms with this and to confront the face of humanity that he had witnessed\, stayed silent in him for some forty years until it found a voice in the passionate and exquisite sculpture he began to produce in the late 1980s.
URL:https://insidersoutsidersfestival.org/event/maurice-blik-plasters-the-artist-at-eighty/
LOCATION:Sculpt Gallery\, Braxted Park Road\, Gt. Braxted\, Essex\, CO5 0QB\, United Kingdom
CATEGORIES:Artforms,Exhibitions,Fine Art,What's On
ATTACH;FMTTYPE=image/png:https://insidersoutsidersfestival.org/wp-content/uploads/2019/03/Feature_Bilk.png
ORGANIZER;CN="Sculpt Gallery":MAILTO:mailto:debrablik@sculptgallery.com
END:VEVENT
END:VCALENDAR