BEGIN:VCALENDAR
VERSION:2.0
PRODID:-//Insiders Outsiders Festival - ECPv6.15.20//NONSGML v1.0//EN
CALSCALE:GREGORIAN
METHOD:PUBLISH
X-WR-CALNAME:Insiders Outsiders Festival
X-ORIGINAL-URL:https://insidersoutsidersfestival.org
X-WR-CALDESC:Events for Insiders Outsiders Festival
REFRESH-INTERVAL;VALUE=DURATION:PT1H
X-Robots-Tag:noindex
X-PUBLISHED-TTL:PT1H
BEGIN:VTIMEZONE
TZID:Europe/London
BEGIN:DAYLIGHT
TZOFFSETFROM:+0000
TZOFFSETTO:+0100
TZNAME:BST
DTSTART:20190331T010000
END:DAYLIGHT
BEGIN:STANDARD
TZOFFSETFROM:+0100
TZOFFSETTO:+0000
TZNAME:GMT
DTSTART:20191027T010000
END:STANDARD
BEGIN:DAYLIGHT
TZOFFSETFROM:+0000
TZOFFSETTO:+0100
TZNAME:BST
DTSTART:20200329T010000
END:DAYLIGHT
BEGIN:STANDARD
TZOFFSETFROM:+0100
TZOFFSETTO:+0000
TZNAME:GMT
DTSTART:20201025T010000
END:STANDARD
BEGIN:DAYLIGHT
TZOFFSETFROM:+0000
TZOFFSETTO:+0100
TZNAME:BST
DTSTART:20210328T010000
END:DAYLIGHT
BEGIN:STANDARD
TZOFFSETFROM:+0100
TZOFFSETTO:+0000
TZNAME:GMT
DTSTART:20211031T010000
END:STANDARD
END:VTIMEZONE
BEGIN:VEVENT
DTSTART;VALUE=DATE:20200314
DTEND;VALUE=DATE:20200607
DTSTAMP:20260424T231555
CREATED:20181105T151851Z
LAST-MODIFIED:20191007T151657Z
UID:10000551-1584144000-1591487999@insidersoutsidersfestival.org
SUMMARY:Refuge and Renewal: Migration and British Art
DESCRIPTION:Heinz Koppel (1919-1980)\, Sari\, 1959. Tempera and oil on canvas\, 153x102cm\, private collection\nMOMA\, Machynlleth\nThis major touring exhibition\, curated by Dr Peter Wakelin\, is a timely exploration of the impact of artist refugees on art in Britain\, taking a perspective across the last 150 years. \nThe migration of creative individuals and groups has always been a source of innovation and cultural cross-fertilisation. This exhibition’s main focus is the crucial influence of émigrés who came from eastern and central Europe during the 1930s and 1940s. It explores how they were perceived by their peers in Britain and the extent to which their influence excited or inspired new art. \nExhibited artists include Joan Eardley\, Naum Gabo\, Humberto Gatica-Leyton\, Mona Hatoum\, Barbara Hepworth\, Josef Herman\, Samira Kitman\, Josef Koudelka\, Hanaa Malallah\, Ben Nicholson\, Camille Pissarro\, Zory Shahrokhi\, Kurt Schwitters and Walid Siti. It looks back to the temporary exile of refugees from the First World War and forward to the present\, when the reception of refugees and their contributions to British life are more contentious than ever. \nMany of the artists present extraordinary and deeply moving stories of escape from dispossession\, persecution\, torture\, intellectual oppression and war. The welcome for foreign artists has not always been positive and has included critical hostility\, financial difficulties\, personal tragedy and even internment\, yet they have often exerted a remarkably direct influence on British contemporaries. \nA substantial book by Peter Wakelin\, published by Sansom & Co. will accompany the exhibition.
URL:https://insidersoutsidersfestival.org/event/refuge-and-renewal-migration-and-british-art/
LOCATION:MOMA Machynlleth\, Heol Penrallt\, Machynlleth\, Powys\, SY20 8AJ\, United Kingdom
CATEGORIES:Exhibitions,Fine Art
ATTACH;FMTTYPE=image/png:https://insidersoutsidersfestival.org/wp-content/uploads/2019/01/Feature_Koppel.png
ORGANIZER;CN="Dr Peter Wakelin":MAILTO:peterwakelin@btinternet.com
END:VEVENT
END:VCALENDAR