BEGIN:VCALENDAR
VERSION:2.0
PRODID:-//Insiders Outsiders Festival - ECPv6.15.20//NONSGML v1.0//EN
CALSCALE:GREGORIAN
METHOD:PUBLISH
X-ORIGINAL-URL:https://insidersoutsidersfestival.org
X-WR-CALDESC:Events for Insiders Outsiders Festival
REFRESH-INTERVAL;VALUE=DURATION:PT1H
X-Robots-Tag:noindex
X-PUBLISHED-TTL:PT1H
BEGIN:VTIMEZONE
TZID:Europe/London
BEGIN:DAYLIGHT
TZOFFSETFROM:+0000
TZOFFSETTO:+0100
TZNAME:BST
DTSTART:20180325T010000
END:DAYLIGHT
BEGIN:STANDARD
TZOFFSETFROM:+0100
TZOFFSETTO:+0000
TZNAME:GMT
DTSTART:20181028T010000
END:STANDARD
BEGIN:DAYLIGHT
TZOFFSETFROM:+0000
TZOFFSETTO:+0100
TZNAME:BST
DTSTART:20190331T010000
END:DAYLIGHT
BEGIN:STANDARD
TZOFFSETFROM:+0100
TZOFFSETTO:+0000
TZNAME:GMT
DTSTART:20191027T010000
END:STANDARD
BEGIN:DAYLIGHT
TZOFFSETFROM:+0000
TZOFFSETTO:+0100
TZNAME:BST
DTSTART:20200329T010000
END:DAYLIGHT
BEGIN:STANDARD
TZOFFSETFROM:+0100
TZOFFSETTO:+0000
TZNAME:GMT
DTSTART:20201025T010000
END:STANDARD
END:VTIMEZONE
BEGIN:VEVENT
DTSTART;TZID=Europe/London:20190910T183000
DTEND;TZID=Europe/London:20190910T183000
DTSTAMP:20260422T000334
CREATED:20190220T125413Z
LAST-MODIFIED:20190308T092521Z
UID:10000622-1568140200-1568140200@insidersoutsidersfestival.org
SUMMARY:Germano Facetti: A Nazi labour camp survivor who revolutionised British book design
DESCRIPTION:Germano Facetti’s diary cover\, written while interned in Mauthausen concentration camp\, 1945 (Istoreto\, Turin)\nItalian Cultural Institute\, London\nThe Italian Cultural Institute celebrates Germano Facetti: a Nazi labour camp survivor who changed the face of publishing in Britain. \nPresented by Chiara Barbieri\, the event opens with a screening of the documentary The Yellow Box: Short History of Hate (running time: 27 mins) directed by Anthony West. In this\, Facetti recalls his experience as a prisoner of the Nazis\, commenting on drawings\, pictures and documents he made and collected at Mauthausen concentration camp. \nFollowing the screening\, guest speakers Rick Poynor (University of Reading) and Phil Baines (Central Saint Martin) present Facetti’s contributions to British design\, publishing and visual culture with a focus on his work as Art Director at Penguin Books in the 1960s. \n  \n\n  \nPre-book at Eventbrite
URL:https://insidersoutsidersfestival.org/event/germano-facetti-a-nazi-labour-camp-survivor-who-revolutionised-british-book-design/
LOCATION:Italian Cultural Institute in London\, 39 Belgrave Square\, London\, SW1X 8NX\, United Kingdom
CATEGORIES:Design,Educational events,Film,Film screenings,Lectures,What's On
ATTACH;FMTTYPE=image/png:https://insidersoutsidersfestival.org/wp-content/uploads/2019/02/Feature_Falcetti.png
END:VEVENT
END:VCALENDAR